BEGIN:VCALENDAR
VERSION:2.0
CALSCALE:GREGORIAN
PRODID:adamgibbons/ics
METHOD:PUBLISH
X-PUBLISHED-TTL:PT1H
BEGIN:VEVENT
UID:20224@offbeat.amsterdam
SUMMARY:Amsterdam Koerdisch Film Festival: Arzela From Amed
DTSTAMP:20260422T103123Z
DTSTART:20260430T173000Z
URL:https://offbeat.amsterdam/event/amsterdam-koerdisch-film-festival-arzel
	a-from-amed
GEO:52.3630433;4.8828596
LOCATION:De Balie - Kleine-Gartmanplantsoen 10\, 1017 RR Amsterdam
STATUS:CONFIRMED
CATEGORIES:leidseplein,amsterdam-centrum,cinema,emancipatie & identiteit,fe
	stivals,film
END:VEVENT
BEGIN:VEVENT
UID:19866@offbeat.amsterdam
SUMMARY:Plein Publiek: Mina Etemad
DTSTAMP:20260422T103123Z
DTSTART:20260501T153000Z
URL:https://offbeat.amsterdam/event/plein-publiek-mina-etemad
GEO:52.3630433;4.8828596
LOCATION:De Balie - Kleine-Gartmanplantsoen 10\, 1017 RR Amsterdam
STATUS:CONFIRMED
CATEGORIES:emancipatie & identiteit,idee & verbeelding,leidseplein,amsterda
	m-centrum
END:VEVENT
BEGIN:VEVENT
UID:20256@offbeat.amsterdam
SUMMARY:Live Journalism: thuiszitters\, het gezin en de bureaucratische wir
	war
DTSTAMP:20260422T103123Z
DTSTART:20260506T173000Z
URL:https://offbeat.amsterdam/event/live-journalism-thuiszitters-het-gezin-
	en-de-bureaucratische-wirwar
GEO:52.3630433;4.8828596
LOCATION:De Balie - Kleine-Gartmanplantsoen 10\, 1017 RR Amsterdam
STATUS:CONFIRMED
CATEGORIES:leidseplein,emancipatie & identiteit,amsterdam-centrum,live
END:VEVENT
BEGIN:VEVENT
UID:20642@offbeat.amsterdam
SUMMARY:Tachtig jaar na de Revolusi – een gedeeld verhaal?
DTSTAMP:20260422T103123Z
DTSTART:20260506T180000Z
URL:https://offbeat.amsterdam/event/tachtig-jaar-na-de-revolusi-een-gedeeld
	-verhaal
GEO:52.3630433;4.8828596
LOCATION:De Balie - Kleine-Gartmanplantsoen 10\, 1017 RR Amsterdam
STATUS:CONFIRMED
CATEGORIES:politiek & democratie,amsterdam-centrum,emancipatie & identiteit
	,gender,leidseplein,theater
END:VEVENT
BEGIN:VEVENT
UID:20225@offbeat.amsterdam
SUMMARY:Theatervoorstelling: BURGER
DTSTAMP:20260422T103123Z
DTSTART:20260507T180000Z
URL:https://offbeat.amsterdam/event/theatervoorstelling-burger
GEO:52.3630433;4.8828596
LOCATION:De Balie - Kleine-Gartmanplantsoen 10\, 1017 RR Amsterdam
STATUS:CONFIRMED
CATEGORIES:leidseplein,politiek & democratie,emancipatie & identiteit,amste
	rdam-centrum
END:VEVENT
BEGIN:VEVENT
UID:20355@offbeat.amsterdam
SUMMARY:Nederland\, gidsland? – over queer emancipatie en politiek
DTSTAMP:20260422T103123Z
DTSTART:20260513T180000Z
URL:https://offbeat.amsterdam/event/nederland-gidsland-over-queer-emancipat
	ie-en-politiek
GEO:52.3630433;4.8828596
LOCATION:De Balie - Kleine-Gartmanplantsoen 10\, 1017 RR Amsterdam
STATUS:CONFIRMED
CATEGORIES:queer,amsterdam-centrum,emancipatie & identiteit,leidseplein,pol
	itiek & democratie
END:VEVENT
BEGIN:VEVENT
UID:20976@offbeat.amsterdam
SUMMARY:CinéDialoog: Bagasi
DTSTAMP:20260422T103123Z
DTSTART:20260516T173000Z
URL:https://offbeat.amsterdam/event/cinedialoog-bagasi
GEO:52.3630433;4.8828596
LOCATION:De Balie - Kleine-Gartmanplantsoen 10\, 1017 RR Amsterdam
STATUS:CONFIRMED
CATEGORIES:film,emancipatie & identiteit,amsterdam-centrum,leidseplein
END:VEVENT
BEGIN:VEVENT
UID:20850@offbeat.amsterdam
SUMMARY:Jongens toch
DTSTAMP:20260422T103123Z
DTSTART:20260517T130000Z
URL:https://offbeat.amsterdam/event/jongens-toch
GEO:52.3630433;4.8828596
LOCATION:De Balie - Kleine-Gartmanplantsoen 10\, 1017 RR Amsterdam
STATUS:CONFIRMED
CATEGORIES:amsterdam-centrum,community,emancipatie & identiteit,leidseplein
	,leven & tijdgeest
END:VEVENT
BEGIN:VEVENT
UID:20977@offbeat.amsterdam
SUMMARY:Evelien Gans Lecture by Eva Illouz
DTSTAMP:20260422T103123Z
DTSTART:20260520T180000Z
URL:https://offbeat.amsterdam/event/evelien-gans-lecture-by-eva-illouz
GEO:52.3630433;4.8828596
LOCATION:De Balie - Kleine-Gartmanplantsoen 10\, 1017 RR Amsterdam
STATUS:CONFIRMED
CATEGORIES:amsterdam-centrum,emancipatie & identiteit,colonialism,books,lei
	dseplein,lecture,politiek & democratie
END:VEVENT
BEGIN:VEVENT
UID:20852@offbeat.amsterdam
SUMMARY:Nazaten: omgaan met een beladen familieverleden
DTSTAMP:20260422T103123Z
DTSTART:20260531T180000Z
URL:https://offbeat.amsterdam/event/nazaten-omgaan-met-een-beladen-familiev
	erleden
GEO:52.3630433;4.8828596
LOCATION:De Balie - Kleine-Gartmanplantsoen 10\, 1017 RR Amsterdam
STATUS:CONFIRMED
CATEGORIES:amsterdam-centrum,emancipatie & identiteit,leidseplein
END:VEVENT
BEGIN:VEVENT
UID:19740@offbeat.amsterdam
SUMMARY:Journalistiek Theater: van klaslokaal naar thuiszitters
DTSTAMP:20260422T103123Z
DTSTART:20260608T180000Z
URL:https://offbeat.amsterdam/event/journalistiek-theater-van-klaslokaal-na
	ar-thuiszitters
GEO:52.3630433;4.8828596
LOCATION:De Balie - Kleine-Gartmanplantsoen 10\, 1017 RR Amsterdam
STATUS:CONFIRMED
CATEGORIES:theater,leidseplein,emancipatie & identiteit,amsterdam-centrum,l
	ive
END:VEVENT
END:VCALENDAR
